{"text_format":"3","workbook":"xlsx","n_sheets":4,"sheets":["应聘报名表（个人填写）","信息转置专用（请勿删除）","自动统计信息（请勿填写）3","自动统计信息（请勿填写）"],"not_rendered":{"defined_names":1},"read":"whole","date_system":"1900"}

{"sheet":"应聘报名表（个人填写）","index":0,"n_rows":66,"n_cols":9,"rows_kept":66,"merged":[[0,0,0,8],[1,0,1,2],[1,3,1,4],[1,6,1,8],[2,0,2,8],[3,5,3,6],[3,7,7,8],[4,5,4,6],[5,1,5,3],[5,5,5,6],[6,1,6,3],[6,5,6,6],[7,1,7,3],[7,5,7,6],[8,1,8,3],[8,6,8,7],[9,1,9,3],[9,6,9,7],[10,0,10,8],[11,0,11,2],[11,3,11,4],[11,6,11,8],[12,0,12,8],[13,0,16,0],[13,6,13,8],[14,6,14,8],[15,6,15,8],[16,6,16,8],[17,0,20,0],[17,6,17,8],[18,6,18,8],[19,6,19,8],[20,6,20,8],[21,0,21,8],[22,5,22,6],[23,5,23,6],[24,5,24,6],[25,5,25,6],[26,5,26,6],[27,5,27,6],[28,5,28,6],[29,5,29,6],[30,5,30,6],[31,5,31,6],[32,5,32,6],[33,0,33,8],[34,2,34,3],[34,5,34,8],[35,2,35,3],[35,5,35,8],[36,2,36,3],[36,5,36,8],[37,2,37,3],[37,5,37,8],[38,2,38,3],[38,5,38,8],[39,2,39,3],[39,5,39,8],[40,2,40,3],[40,5,40,8],[41,2,41,3],[41,5,41,8],[42,2,42,3],[42,5,42,8],[43,2,43,3],[43,5,43,8],[44,2,44,3],[44,5,44,8],[45,0,45,8],[46,0,46,1],[46,2,46,3],[46,4,46,8],[47,0,47,1],[47,2,47,3],[47,4,47,8],[48,0,48,1],[48,2,48,3],[48,4,48,8],[49,0,49,1],[49,2,49,3],[49,4,49,8],[50,0,50,1],[50,2,50,3],[50,4,50,8],[51,0,51,1],[51,2,51,3],[51,4,51,8],[52,0,52,8],[53,3,53,4],[53,5,53,8],[54,3,54,4],[54,5,54,8],[55,3,55,4],[55,5,55,8],[56,3,56,4],[56,5,56,8],[57,3,57,4],[57,5,57,8],[58,3,58,4],[58,5,58,8],[59,3,59,4],[59,5,59,8],[60,3,60,4],[60,5,60,8],[61,3,61,4],[61,5,61,8],[62,0,62,8],[63,0,63,4],[63,5,63,8],[64,0,64,4],[64,5,64,8],[65,0,65,8]]}
["中国四联集团技术中心应聘报名表"]
["应聘岗位",null,null,"软件系统架构师",null,"是否服从调配"]
["一、基本信息"]
["姓名",null,"性别",null,"出生日期及年龄",null,null,"照片粘贴处"]
["身高",null,"籍贯",null,"身份证号"]
["政治面貌",{"$nulls":3},"入党年月"]
["参加工作时间",{"$nulls":3},"工作年限"]
["专业技术职称",{"$nulls":3},"职业/执业资格证"]
["现单位",{"$nulls":3},"现岗位及职务",null,"英语能力"]
["本人联系电话",{"$nulls":3},"电子邮箱",null,"紧急联系人及电话"]
["二、收入情况（含工资、奖金、福利及各类津补贴）"]
["当前年收入（税前，万元）",{"$nulls":4},"期望年收入（税前，万元）"]
["三、教育经历（按学历由高到低填写，大专以下学历不填写）"]
["全日制教育经历","起止年月","学历","学位","毕业院校","专业","备注"]
[]
[]
[]
["在职教育经历","起止年月","学历","学位","毕业院校","专业","备注"]
[]
[]
[]
["四、工作经历（按起止时间从最近的经历填起）"]
["序号","起止年月","工作单位","单位性质","工作部门、职务（岗位）","主要职责及业绩（单项不超过200字）",null,"直接下级\n人数","证明人、职务及电话"]
[1]
[2]
[3]
[4]
[5]
[6]
[7]
[8]
[9]
[10]
["五、近五年项目经历（列举代表性项目不超过10项，按起止时间从最近的经历填起）"]
["序号","项目起止年月","项目名称",null,"项目角色","项目成果、实施效果及本人承担的主要工作"]
{"$rows_empty":10}
["六、近五年绩效等级及获奖情况"]
["年度",null,"年度绩效等级",null,"奖惩情况（限与工作内容高度相关的个人获奖或项目获奖，项目获奖的写明本人在项目中的排名）"]
[]
[]
[]
[]
[]
["七、家庭主要成员及重要社会关系（依次写明配偶、子女、夫妻双方父母、本人兄弟姐妹等）"]
["称谓","姓名","年龄","政治面貌",null,"工作单位及职务"]
{"$rows_empty":8}
["八、自我评价（综合素质及性格、管理能力方面、专业知识与技能等）"]
["优点或特长",{"$nulls":4},"缺点或不足"]
[]
["\n本人承诺：\n   以上信息均为按实填写，本人愿意接受中国四联仪器仪表集团有限公司技术中心针对以上信息的调查，并承诺若在招聘过程中或本人入职后发现存在不实信息的，愿意接受包含解除劳动关系在内的任何处罚。\n                                                                                     本人签名：\n                                                                                                  年    月    日"]

{"sheet":"信息转置专用（请勿删除）","index":1,"n_rows":66,"n_cols":13,"rows_kept":66,"hidden":true,"merged":[[0,0,0,8],[1,0,1,2],[1,3,1,4],[1,6,1,8],[2,0,2,8],[3,5,3,6],[3,7,7,8],[4,5,4,6],[5,1,5,3],[5,5,5,6],[6,1,6,3],[6,5,6,6],[7,1,7,3],[7,5,7,6],[8,1,8,3],[8,6,8,7],[9,1,9,3],[9,6,9,7],[10,0,10,8],[11,0,11,2],[11,3,11,4],[11,6,11,8],[12,0,12,8],[13,6,13,8],[13,9,13,10],[14,0,16,0],[14,6,14,8],[14,12,16,12],[15,6,15,8],[16,6,16,8],[17,6,17,8],[18,0,20,0],[18,6,18,8],[18,12,20,12],[19,6,19,8],[20,6,20,8],[21,0,21,8],[22,5,22,6],[23,5,23,6],[23,10,32,10],[24,5,24,6],[25,5,25,6],[26,5,26,6],[27,5,27,6],[28,5,28,6],[29,5,29,6],[30,5,30,6],[31,5,31,6],[32,5,32,6],[33,0,33,8],[34,2,34,3],[34,5,34,8],[35,2,35,3],[35,5,35,8],[35,10,44,10],[36,2,36,3],[36,5,36,8],[37,2,37,3],[37,5,37,8],[38,2,38,3],[38,5,38,8],[39,2,39,3],[39,5,39,8],[40,2,40,3],[40,5,40,8],[41,2,41,3],[41,5,41,8],[42,2,42,3],[42,5,42,8],[43,2,43,3],[43,5,43,8],[44,2,44,3],[44,5,44,8],[45,0,45,8],[46,0,46,1],[46,2,46,3],[46,4,46,8],[47,0,47,1],[47,2,47,3],[47,4,47,8],[47,10,51,10],[48,0,48,1],[48,2,48,3],[48,4,48,8],[49,0,49,1],[49,2,49,3],[49,4,49,8],[50,0,50,1],[50,2,50,3],[50,4,50,8],[51,0,51,1],[51,2,51,3],[51,4,51,8],[52,0,52,8],[53,3,53,4],[53,5,53,8],[54,3,54,4],[54,5,54,8],[54,10,61,10],[55,3,55,4],[55,5,55,8],[56,3,56,4],[56,5,56,8],[57,3,57,4],[57,5,57,8],[58,3,58,4],[58,5,58,8],[59,3,59,4],[59,5,59,8],[60,3,60,4],[60,5,60,8],[61,3,61,4],[61,5,61,8],[62,0,62,8],[63,0,63,4],[63,5,63,8],[64,0,64,4],[64,5,64,8],[65,0,65,8]]}
["渝富集团2017年公开招聘-个人应聘报名表"]
["应聘岗位",null,null,{"$f":"IF('应聘报名表（个人填写）'!D2:E2=0,\"\",'应聘报名表（个人填写）'!D2:E2)","v":"软件系统架构师"},null,"是否服从调配",{"$f":"IF('应聘报名表（个人填写）'!G2:I2=0,\"\",'应聘报名表（个人填写）'!G2:I2)","v":""},null,null,"最高学历",{"$f":"IF(VLOOKUP(MAX($J$15:$J$21),$J$15:$K$21,2,0)=0,\"\",VLOOKUP(MAX($J$15:$J$21),$J$15:$K$21,2,0))","v":{"$error":"#N/A"}}]
["一、基本信息",{"$nulls":8},"博士研究生",4]
["姓名",{"$f":"IF('应聘报名表（个人填写）'!B4=0,\"\",'应聘报名表（个人填写）'!B4)","v":""},"性别",{"$f":"IF('应聘报名表（个人填写）'!D4=0,\"\",'应聘报名表（个人填写）'!D4)","v":""},"出生日期及年龄",{"$f":"IF('应聘报名表（个人填写）'!F4:G4=0,\"\",'应聘报名表（个人填写）'!F4:G4)","v":""},null,"粘贴登记照",null,"硕士研究生",3]
["民族",{"$f":"IF('应聘报名表（个人填写）'!B5=0,\"\",'应聘报名表（个人填写）'!B5)","v":""},"籍贯",{"$f":"'应聘报名表（个人填写）'!D5","v":0},"身份证号",{"$f":"IF('应聘报名表（个人填写）'!F5:G5=0,\"\",'应聘报名表（个人填写）'!F5:G5)","v":""},{"$nulls":3},"本科",2]
["政治面貌",{"$f":"IF('应聘报名表（个人填写）'!B6:D6=0,\"\",'应聘报名表（个人填写）'!B6:D6)","v":""},null,null,"入党年月",{"$f":"IF('应聘报名表（个人填写）'!F6:G6=0,\"\",'应聘报名表（个人填写）'!F6:G6)","v":""},{"$nulls":3},"大专",1]
["参加工作时间",{"$f":"IF('应聘报名表（个人填写）'!B7:D7=0,\"\",'应聘报名表（个人填写）'!B7:D7)","v":""},null,null,"专业工作年限",{"$f":"IF('应聘报名表（个人填写）'!F7:G7=0,\"\",'应聘报名表（个人填写）'!F7:G7)","v":""},{"$nulls":3},"职称/职业资格"]
["专业技术职称",{"$f":"IF('应聘报名表（个人填写）'!B8:D8=0,\"\",'应聘报名表（个人填写）'!B8:D8)","v":""},null,null,"职业资格证",{"$f":"IF('应聘报名表（个人填写）'!F8:G8=0,\"\",'应聘报名表（个人填写）'!F8:G8)","v":""},{"$nulls":3},{"$f":"IF(B8=\"\",IF(F8=\"\",\"\",F8),IF(F8=\"\",B8,B8&CHAR(10)&F8))","v":""}]
["现单位",{"$f":"IF('应聘报名表（个人填写）'!B9:D9=0,\"\",'应聘报名表（个人填写）'!B9:D9)","v":""},null,null,"现任岗位及职务",{"$f":"IF('应聘报名表（个人填写）'!F9=\"\",\"\",'应聘报名表（个人填写）'!F9)","v":""},"英语能力",null,{"$f":"IF('应聘报名表（个人填写）'!I9=\"\",\"\",'应聘报名表（个人填写）'!I9)","v":""}]
["本人联系电话",{"$f":"IF('应聘报名表（个人填写）'!B10:D10=0,\"\",'应聘报名表（个人填写）'!B10:D10)","v":""},null,null,"电子邮箱",{"$f":"IF('应聘报名表（个人填写）'!F10=0,\"\",'应聘报名表（个人填写）'!F10)","v":""},"紧急联系人及电话",null,{"$f":"'应聘报名表（个人填写）'!I10","v":0}]
["二、收入情况（含工资、奖金、福利及各类津补贴）"]
["当前年收入（税前，万元）",null,null,{"$f":"IF('应聘报名表（个人填写）'!D12:E12=0,\"\",'应聘报名表（个人填写）'!D12:E12)","v":""},null,"期望年收入（税前，万元）",{"$f":"IF('应聘报名表（个人填写）'!G12:I12=0,\"\",'应聘报名表（个人填写）'!G12:I12)","v":""}]
["三、教育经历（按学历由高到低填写，在读教育经历不填写，大专以下学历不填写）"]
[null,"起止年月","学历","学位","毕业院校","专业","备注",null,null,"最高学历信息处理",null,"全日制教育经历单条","全日制教育合并"]
["全日制教育经历",{"$f":"'应聘报名表（个人填写）'!B15","v":0},{"$f":"'应聘报名表（个人填写）'!C15","v":0},{"$f":"'应聘报名表（个人填写）'!D15","v":0},{"$f":"'应聘报名表（个人填写）'!E15","v":0},{"$f":"'应聘报名表（个人填写）'!F15","v":0},{"$f":"'应聘报名表（个人填写）'!G15:I15","v":0},null,null,{"$f":"IF(ISNA(VLOOKUP(C15,$J$3:$K$6,2,0)),\"\",VLOOKUP(C15,$J$3:$K$6,2,0))","v":""},{"$f":"C15","v":0},{"$f":"IF(B15=0,\"\",IF(L16=\"\",B15&\"  \"&C15&\"/\"&D15&\"  \"&E15&\"  \"&F15,B15&\"   \"&C15&\"/\"&D15&\"  \"&E15&\"  \"&F15&CHAR(10)))","v":""},{"$f":"L15&L16&L17","v":""}]
[null,{"$f":"'应聘报名表（个人填写）'!B16","v":0},{"$f":"'应聘报名表（个人填写）'!C16","v":0},{"$f":"'应聘报名表（个人填写）'!D16","v":0},{"$f":"'应聘报名表（个人填写）'!E16","v":0},{"$f":"'应聘报名表（个人填写）'!F16","v":0},{"$f":"'应聘报名表（个人填写）'!G16:I16","v":0},null,null,{"$f":"IF(ISNA(VLOOKUP(C16,$J$3:$K$6,2,0)),\"\",VLOOKUP(C16,$J$3:$K$6,2,0))","v":""},0,{"$f":"IF(B16=0,\"\",IF(L17=\"\",B16&\"  \"&C16&\"/\"&D16&\"  \"&E16&\"  \"&F16,B16&\"   \"&C16&\"/\"&D16&\"  \"&E16&\"  \"&F16&CHAR(10)))","v":""}]
[null,{"$f":"'应聘报名表（个人填写）'!B17","v":0},{"$f":"'应聘报名表（个人填写）'!C17","v":0},{"$f":"'应聘报名表（个人填写）'!D17","v":0},{"$f":"'应聘报名表（个人填写）'!E17","v":0},{"$f":"'应聘报名表（个人填写）'!F17","v":0},{"$f":"'应聘报名表（个人填写）'!G17:I17","v":0},null,null,"",0,""]
[null,"起止年月","学历","学位","毕业院校","专业","备注",{"$nulls":5},"在职教育经历合并"]
["在职教育经历",{"$f":"'应聘报名表（个人填写）'!B19","v":0},{"$f":"'应聘报名表（个人填写）'!C19","v":0},{"$f":"'应聘报名表（个人填写）'!D19","v":0},{"$f":"'应聘报名表（个人填写）'!E19","v":0},{"$f":"'应聘报名表（个人填写）'!F19","v":0},{"$f":"'应聘报名表（个人填写）'!G19:I19","v":0},null,null,{"$f":"IF(ISNA(VLOOKUP(C19,$J$3:$K$6,2,0)),\"\",VLOOKUP(C19,$J$3:$K$6,2,0))","v":""},{"$f":"C19","v":0},{"$f":"IF(B19=0,\"\",IF(L20=\"\",B19&\"  \"&C19&\"/\"&D19&\"  \"&E19&\"  \"&F19,B19&\"   \"&C19&\"/\"&D19&\"  \"&E19&\"  \"&F19&CHAR(10)))","v":""},{"$f":"L19&L20&L21","v":""}]
[null,{"$f":"'应聘报名表（个人填写）'!B20","v":0},{"$f":"'应聘报名表（个人填写）'!C20","v":0},{"$f":"'应聘报名表（个人填写）'!D20","v":0},{"$f":"'应聘报名表（个人填写）'!E20","v":0},{"$f":"'应聘报名表（个人填写）'!F20","v":0},{"$f":"'应聘报名表（个人填写）'!G20:I20","v":0},null,null,{"$f":"IF(ISNA(VLOOKUP(C20,$J$3:$K$6,2,0)),\"\",VLOOKUP(C20,$J$3:$K$6,2,0))","v":""},0,""]
[null,{"$f":"'应聘报名表（个人填写）'!B21","v":0},{"$f":"'应聘报名表（个人填写）'!C21","v":0},{"$f":"'应聘报名表（个人填写）'!D21","v":0},{"$f":"'应聘报名表（个人填写）'!E21","v":0},{"$f":"'应聘报名表（个人填写）'!F21","v":0},{"$f":"'应聘报名表（个人填写）'!G21:I21","v":0},null,null,{"$f":"IF(ISNA(VLOOKUP(C21,$J$3:$K$6,2,0)),\"\",VLOOKUP(C21,$J$3:$K$6,2,0))","v":""},0,""]
["四、工作经历（按起止时间从最近的经历填起）"]
["序号","起止年月","工作单位","单位性质","工作部门、岗位及职务","主要职责及业绩",null,"直接下级\n人数","证明人、职务及电话","工作经历单条","工作经历"]
[1,{"$f":"'应聘报名表（个人填写）'!B24","v":0},{"$f":"'应聘报名表（个人填写）'!C24","v":0},{"$f":"'应聘报名表（个人填写）'!D24","v":0},{"$f":"'应聘报名表（个人填写）'!E24","v":0},{"$f":"'应聘报名表（个人填写）'!F24:G24","v":0},null,{"$f":"'应聘报名表（个人填写）'!H24","v":0},{"$f":"'应聘报名表（个人填写）'!I24","v":0},{"$f":"IF(B24=0,\"\",IF(J25=\"\",B24&\"  \"&C24&\"（\"&D24&\"）\"&\"  \"&E24,B24&\"  \"&C24&\"（\"&D24&\"）\"&\"  \"&E24&CHAR(10)))","v":""},{"$f":"J24&J25&J26&J27&J28&J29&J30&J31&J32&J33","v":""}]
[2,{"$f":"'应聘报名表（个人填写）'!B25","v":0},{"$f":"'应聘报名表（个人填写）'!C25","v":0},{"$f":"'应聘报名表（个人填写）'!D25","v":0},{"$f":"'应聘报名表（个人填写）'!E25","v":0},{"$f":"'应聘报名表（个人填写）'!F25:G25","v":0},null,{"$f":"'应聘报名表（个人填写）'!H25","v":0},{"$f":"'应聘报名表（个人填写）'!I25","v":0},{"$f":"IF(B25=0,\"\",IF(J26=\"\",B25&\"  \"&C25&\"（\"&D25&\"）\"&\"  \"&E25,B25&\"  \"&C25&\"（\"&D25&\"）\"&\"  \"&E25&CHAR(10)))","v":""}]
[3,{"$f":"'应聘报名表（个人填写）'!B26","v":0},{"$f":"'应聘报名表（个人填写）'!C26","v":0},{"$f":"'应聘报名表（个人填写）'!D26","v":0},{"$f":"'应聘报名表（个人填写）'!E26","v":0},{"$f":"'应聘报名表（个人填写）'!F26:G26","v":0},null,{"$f":"'应聘报名表（个人填写）'!H26","v":0},{"$f":"'应聘报名表（个人填写）'!I26","v":0},{"$f":"IF(B26=0,\"\",IF(J27=\"\",B26&\"  \"&C26&\"（\"&D26&\"）\"&\"  \"&E26,B26&\"  \"&C26&\"（\"&D26&\"）\"&\"  \"&E26&CHAR(10)))","v":""}]
[4,{"$f":"'应聘报名表（个人填写）'!B27","v":0},{"$f":"'应聘报名表（个人填写）'!C27","v":0},{"$f":"'应聘报名表（个人填写）'!D27","v":0},{"$f":"'应聘报名表（个人填写）'!E27","v":0},{"$f":"'应聘报名表（个人填写）'!F27:G27","v":0},null,{"$f":"'应聘报名表（个人填写）'!H27","v":0},{"$f":"'应聘报名表（个人填写）'!I27","v":0},{"$f":"IF(B27=0,\"\",IF(J28=\"\",B27&\"  \"&C27&\"（\"&D27&\"）\"&\"  \"&E27,B27&\"  \"&C27&\"（\"&D27&\"）\"&\"  \"&E27&CHAR(10)))","v":""}]
[5,{"$f":"'应聘报名表（个人填写）'!B28","v":0},{"$f":"'应聘报名表（个人填写）'!C28","v":0},{"$f":"'应聘报名表（个人填写）'!D28","v":0},{"$f":"'应聘报名表（个人填写）'!E28","v":0},{"$f":"'应聘报名表（个人填写）'!F28:G28","v":0},null,{"$f":"'应聘报名表（个人填写）'!H28","v":0},{"$f":"'应聘报名表（个人填写）'!I28","v":0},""]
[6,{"$f":"'应聘报名表（个人填写）'!B29","v":0},{"$f":"'应聘报名表（个人填写）'!C29","v":0},{"$f":"'应聘报名表（个人填写）'!D29","v":0},{"$f":"'应聘报名表（个人填写）'!E29","v":0},{"$f":"'应聘报名表（个人填写）'!F29:G29","v":0},null,{"$f":"'应聘报名表（个人填写）'!H29","v":0},{"$f":"'应聘报名表（个人填写）'!I29","v":0},""]
[7,{"$f":"'应聘报名表（个人填写）'!B30","v":0},{"$f":"'应聘报名表（个人填写）'!C30","v":0},{"$f":"'应聘报名表（个人填写）'!D30","v":0},{"$f":"'应聘报名表（个人填写）'!E30","v":0},{"$f":"'应聘报名表（个人填写）'!F30:G30","v":0},null,{"$f":"'应聘报名表（个人填写）'!H30","v":0},{"$f":"'应聘报名表（个人填写）'!I30","v":0},""]
[8,{"$f":"'应聘报名表（个人填写）'!B31","v":0},{"$f":"'应聘报名表（个人填写）'!C31","v":0},{"$f":"'应聘报名表（个人填写）'!D31","v":0},{"$f":"'应聘报名表（个人填写）'!E31","v":0},{"$f":"'应聘报名表（个人填写）'!F31:G31","v":0},null,{"$f":"'应聘报名表（个人填写）'!H31","v":0},{"$f":"'应聘报名表（个人填写）'!I31","v":0},""]
[9,{"$f":"'应聘报名表（个人填写）'!B32","v":0},{"$f":"'应聘报名表（个人填写）'!C32","v":0},{"$f":"'应聘报名表（个人填写）'!D32","v":0},{"$f":"'应聘报名表（个人填写）'!E32","v":0},{"$f":"'应聘报名表（个人填写）'!F32:G32","v":0},null,{"$f":"'应聘报名表（个人填写）'!H32","v":0},{"$f":"'应聘报名表（个人填写）'!I32","v":0},""]
[10,{"$f":"'应聘报名表（个人填写）'!B33","v":0},{"$f":"'应聘报名表（个人填写）'!C33","v":0},{"$f":"'应聘报名表（个人填写）'!D33","v":0},{"$f":"'应聘报名表（个人填写）'!E33","v":0},{"$f":"'应聘报名表（个人填写）'!F33:G33","v":0},null,{"$f":"'应聘报名表（个人填写）'!H33","v":0},{"$f":"'应聘报名表（个人填写）'!I33","v":0},{"$f":"IF(B33=0,\"\",IF(#REF!=\"\",B33&\"  \"&C33&\"（\"&D33&\"）\"&\"  \"&E33,B33&\"  \"&C33&\"（\"&D33&\"）\"&\"  \"&E33&CHAR(10)))","v":""}]
["五、近五年项目经历（限已完结的重大项目，列举代表性项目不超过10项，按起止时间从最近的经历填起）"]
["序号","项目起止年月","项目名称",null,"项目角色","项目成果、实施效果及本人承担的主要工作",{"$nulls":3},"项目经历单条","重大项目经历"]
[1,{"$f":"'应聘报名表（个人填写）'!B36","v":0},{"$f":"'应聘报名表（个人填写）'!C36:D36","v":0},null,{"$f":"'应聘报名表（个人填写）'!E36","v":0},{"$f":"'应聘报名表（个人填写）'!F36:I36","v":0},{"$nulls":3},{"$f":"IF(B36=0,\"\",IF(J37=\"\",B36&\"  \"&C36&\"（\"&E36&\"）\",B36&\"  \"&C36&\" \"&\"（\"&E36&\"）\"&CHAR(10)))","v":""},{"$f":"J36&J37&J38&J39&J40&J41&J42&J43&J44&J45","v":""}]
[2,{"$f":"'应聘报名表（个人填写）'!B37","v":0},{"$f":"'应聘报名表（个人填写）'!C37:D37","v":0},null,{"$f":"'应聘报名表（个人填写）'!E37","v":0},{"$f":"'应聘报名表（个人填写）'!F37:I37","v":0},{"$nulls":3},{"$f":"IF(B37=0,\"\",IF(J38=\"\",B37&\"  \"&C37&\"（\"&E37&\"）\",B37&\"  \"&C37&\" \"&\"（\"&E37&\"）\"&CHAR(10)))","v":""}]
[3,{"$f":"'应聘报名表（个人填写）'!B38","v":0},{"$f":"'应聘报名表（个人填写）'!C38:D38","v":0},null,{"$f":"'应聘报名表（个人填写）'!E38","v":0},{"$f":"'应聘报名表（个人填写）'!F38:I38","v":0},{"$nulls":3},{"$f":"IF(B38=0,\"\",IF(J39=\"\",B38&\"  \"&C38&\"（\"&E38&\"）\",B38&\"  \"&C38&\" \"&\"（\"&E38&\"）\"&CHAR(10)))","v":""}]
[4,{"$f":"'应聘报名表（个人填写）'!B39","v":0},{"$f":"'应聘报名表（个人填写）'!C39:D39","v":0},null,{"$f":"'应聘报名表（个人填写）'!E39","v":0},{"$f":"'应聘报名表（个人填写）'!F39:I39","v":0},{"$nulls":3},{"$f":"IF(B39=0,\"\",IF(J40=\"\",B39&\"  \"&C39&\"（\"&E39&\"）\",B39&\"  \"&C39&\" \"&\"（\"&E39&\"）\"&CHAR(10)))","v":""}]
[5,{"$f":"'应聘报名表（个人填写）'!B40","v":0},{"$f":"'应聘报名表（个人填写）'!C40:D40","v":0},null,{"$f":"'应聘报名表（个人填写）'!E40","v":0},{"$f":"'应聘报名表（个人填写）'!F40:I40","v":0},{"$nulls":3},""]
[6,{"$f":"'应聘报名表（个人填写）'!B41","v":0},{"$f":"'应聘报名表（个人填写）'!C41:D41","v":0},null,{"$f":"'应聘报名表（个人填写）'!E41","v":0},{"$f":"'应聘报名表（个人填写）'!F41:I41","v":0},{"$nulls":3},""]
[7,{"$f":"'应聘报名表（个人填写）'!B42","v":0},{"$f":"'应聘报名表（个人填写）'!C42:D42","v":0},null,{"$f":"'应聘报名表（个人填写）'!E42","v":0},{"$f":"'应聘报名表（个人填写）'!F42:I42","v":0},{"$nulls":3},""]
[8,{"$f":"'应聘报名表（个人填写）'!B43","v":0},{"$f":"'应聘报名表（个人填写）'!C43:D43","v":0},null,{"$f":"'应聘报名表（个人填写）'!E43","v":0},{"$f":"'应聘报名表（个人填写）'!F43:I43","v":0},{"$nulls":3},""]
[9,{"$f":"'应聘报名表（个人填写）'!B44","v":0},{"$f":"'应聘报名表（个人填写）'!C44:D44","v":0},null,{"$f":"'应聘报名表（个人填写）'!E44","v":0},{"$f":"'应聘报名表（个人填写）'!F44:I44","v":0},{"$nulls":3},""]
[10,{"$f":"'应聘报名表（个人填写）'!B45","v":0},{"$f":"'应聘报名表（个人填写）'!C45:D45","v":0},null,{"$f":"'应聘报名表（个人填写）'!E45","v":0},{"$f":"'应聘报名表（个人填写）'!F45:I45","v":0},{"$nulls":3},""]
["六、近五年绩效等级及获奖情况"]
["年度",null,"年度绩效等级",null,"奖惩情况（限与工作内容相关的个人获奖，项目获奖的写明本人在项目中的排名，且写明授予单位）",{"$nulls":4},"获奖情况单条","获奖情况"]
["2016年",null,{"$f":"'应聘报名表（个人填写）'!C48:D48","v":0},null,{"$f":"'应聘报名表（个人填写）'!E48:I48","v":0},{"$nulls":4},{"$f":"IF(E48=0,\"\",IF(J49=\"\",A48&\"  \"&E48,A48&\"  \"&E48&CHAR(10)))","v":""},{"$f":"J48&J49&J50&J51&J52","v":""}]
["2015年","2015年",{"$f":"'应聘报名表（个人填写）'!C49:D49","v":0},null,{"$f":"'应聘报名表（个人填写）'!E49:I49","v":0},{"$nulls":4},""]
["2014年",null,{"$f":"'应聘报名表（个人填写）'!C50:D50","v":0},null,{"$f":"'应聘报名表（个人填写）'!E50:I50","v":0},{"$nulls":4},""]
["2013年","2015年",{"$f":"'应聘报名表（个人填写）'!C51:D51","v":0},null,{"$f":"'应聘报名表（个人填写）'!E51:I51","v":0},{"$nulls":4},""]
["2012年",null,{"$f":"'应聘报名表（个人填写）'!C52:D52","v":0},null,{"$f":"'应聘报名表（个人填写）'!E52:I52","v":0},{"$nulls":4},""]
["七、家庭主要成员及重要社会关系（写明配偶、子女、本人兄弟姐妹、夫妻双方父母等）"]
["称谓","姓名","年龄","政治面貌",null,"工作单位及职务",{"$nulls":3},"主要成员及重要社会关系单条","主要家庭成员情况"]
[{"$f":"'应聘报名表（个人填写）'!A55","v":0},{"$f":"'应聘报名表（个人填写）'!B55","v":0},{"$f":"'应聘报名表（个人填写）'!C55","v":{"v":0,"d":"0.0岁"}},{"$f":"'应聘报名表（个人填写）'!D55:E55","v":0},null,{"$f":"'应聘报名表（个人填写）'!F55:I55","v":0},{"$nulls":3},{"$f":"IF(A55=0,\"\",IF(J56=\"\",A55&\" \"&B55&\"：\"&F55,A55&\" \"&B55&\"：\"&F55&CHAR(10)))","v":""},{"$f":"J55&J56&J57&J58&J59&J60&J61&J62","v":""}]
[{"$f":"'应聘报名表（个人填写）'!A56","v":0},{"$f":"'应聘报名表（个人填写）'!B56","v":0},{"$f":"'应聘报名表（个人填写）'!C56","v":{"v":0,"d":"0.0岁"}},{"$f":"'应聘报名表（个人填写）'!D56:E56","v":0},null,{"$f":"'应聘报名表（个人填写）'!F56:I56","v":0},{"$nulls":3},{"$f":"IF(A56=0,\"\",IF(J57=\"\",A56&\" \"&B56&\"：\"&F56,A56&\" \"&B56&\"：\"&F56&CHAR(10)))","v":""}]
[{"$f":"'应聘报名表（个人填写）'!A57","v":0},{"$f":"'应聘报名表（个人填写）'!B57","v":0},{"$f":"'应聘报名表（个人填写）'!C57","v":{"v":0,"d":"0.0岁"}},{"$f":"'应聘报名表（个人填写）'!D57:E57","v":0},null,{"$f":"'应聘报名表（个人填写）'!F57:I57","v":0},{"$nulls":3},{"$f":"IF(A57=0,\"\",IF(J58=\"\",A57&\" \"&B57&\"：\"&F57,A57&\" \"&B57&\"：\"&F57&CHAR(10)))","v":""}]
[{"$f":"'应聘报名表（个人填写）'!A58","v":0},{"$f":"'应聘报名表（个人填写）'!B58","v":0},{"$f":"'应聘报名表（个人填写）'!C58","v":{"v":0,"d":"0.0岁"}},{"$f":"'应聘报名表（个人填写）'!D58:E58","v":0},null,{"$f":"'应聘报名表（个人填写）'!F58:I58","v":0},{"$nulls":3},""]
[{"$f":"'应聘报名表（个人填写）'!A59","v":0},{"$f":"'应聘报名表（个人填写）'!B59","v":0},{"$f":"'应聘报名表（个人填写）'!C59","v":{"v":0,"d":"0.0岁"}},{"$f":"'应聘报名表（个人填写）'!D59:E59","v":0},null,{"$f":"'应聘报名表（个人填写）'!F59:I59","v":0},{"$nulls":3},""]
[{"$f":"'应聘报名表（个人填写）'!A60","v":0},{"$f":"'应聘报名表（个人填写）'!B60","v":0},{"$f":"'应聘报名表（个人填写）'!C60","v":{"v":0,"d":"0.0岁"}},{"$f":"'应聘报名表（个人填写）'!D60:E60","v":0},null,{"$f":"'应聘报名表（个人填写）'!F60:I60","v":0},{"$nulls":3},""]
[{"$f":"'应聘报名表（个人填写）'!A61","v":0},{"$f":"'应聘报名表（个人填写）'!B61","v":0},{"$f":"'应聘报名表（个人填写）'!C61","v":{"v":0,"d":"0.0岁"}},{"$f":"'应聘报名表（个人填写）'!D61:E61","v":0},null,{"$f":"'应聘报名表（个人填写）'!F61:I61","v":0},{"$nulls":3},""]
[{"$f":"'应聘报名表（个人填写）'!A62","v":0},{"$f":"'应聘报名表（个人填写）'!B62","v":0},{"$f":"'应聘报名表（个人填写）'!C62","v":{"v":0,"d":"0.0岁"}},{"$f":"'应聘报名表（个人填写）'!D62:E62","v":0},null,{"$f":"'应聘报名表（个人填写）'!F62:I62","v":0},{"$nulls":3},""]
["八、自我评价（综合素质及性格、管理能力方面、专业知识与技能等）"]
["优点或特长",{"$nulls":4},"缺点或不足"]
[{"$f":"'应聘报名表（个人填写）'!A65:E65","v":0},{"$nulls":4},{"$f":"'应聘报名表（个人填写）'!F65:I65","v":0}]
["\n本人承诺：\n   以上信息均为按实填写，本人愿意接受渝富集团及下属企业针对以上信息的调查，并承诺若在招聘过程中或本人入职后发现存在不实信息的，愿意接受包含解除劳动关系在内的任何处罚。\n                                                                                     本人签名：\n                                                                                                  年    月    日"]

{"sheet":"自动统计信息（请勿填写）3","index":2,"n_rows":3,"n_cols":27,"rows_kept":3}
["应聘人员基本信息汇总表"]
["序号","应聘岗位","是否服从调配","姓名","出生年月（年龄）","性别","政治面貌","入党年月","身份证号","本人联系电话","电子邮箱","最高学历","全日制教育经历","在职教育经历","英语能力","参加工作时间","应聘岗位专业工作年限","现单位","现职务/岗位","现年收入\n（税前，万元/年）","期望年收入\n（税前，万元/年）","职称/职业资格","工作经历","重大项目经历","获奖情况","备注","主要家庭成员情况"]
[null,{"$f":"VLOOKUP($B$2,'信息转置专用（请勿删除）'!$A$2:$E$2,4,0)","v":"软件系统架构师"},{"$f":"VLOOKUP($C$2,'信息转置专用（请勿删除）'!$F$2:$I$2,2,0)","v":""},{"$f":"VLOOKUP(D2,'信息转置专用（请勿删除）'!$A$4:$B$4,2,0)","v":""},{"$f":"VLOOKUP(\"出生日期及年龄\",'信息转置专用（请勿删除）'!$E$4:$G$4,2,0)","v":""},{"$f":"VLOOKUP($F$2,'信息转置专用（请勿删除）'!$C$4:$D$4,2,0)","v":""},{"$f":"VLOOKUP($G$2,'信息转置专用（请勿删除）'!$A$6:$D$6,2,0)","v":""},{"$f":"VLOOKUP($H$2,'信息转置专用（请勿删除）'!$E$6:$G$6,2,0)","v":""},{"$f":"VLOOKUP($I$2,'信息转置专用（请勿删除）'!$E$5:$G$5,2,0)","v":""},{"$f":"VLOOKUP($J$2,'信息转置专用（请勿删除）'!$A$10:$D$10,2,0)","v":""},{"$f":"VLOOKUP(K2,'信息转置专用（请勿删除）'!E10:F10,2,0)","v":""},{"$f":"VLOOKUP($L$2,'信息转置专用（请勿删除）'!$J$2:$K$2,2,0)","v":{"$error":"#N/A"}},{"$f":"VLOOKUP($M$2,'信息转置专用（请勿删除）'!$A$15:$M$17,13,0)","v":""},{"$f":"VLOOKUP($N$2,'信息转置专用（请勿删除）'!$A$19:$M$21,13,0)","v":""},{"$f":"VLOOKUP($O$2,'信息转置专用（请勿删除）'!$G$9:$I$9,3,0)","v":""},{"$f":"VLOOKUP($P$2,'信息转置专用（请勿删除）'!$A$7:$D$7,2,0)","v":""},{"$f":"VLOOKUP(\"专业工作年限\",'信息转置专用（请勿删除）'!$E$7:$G$7,2,0)","v":""},{"$f":"VLOOKUP(\"现单位\",'信息转置专用（请勿删除）'!$A$9:$D$9,2,0)","v":""},{"$f":"VLOOKUP(\"现任岗位及职务\",'信息转置专用（请勿删除）'!$E$9:$I$9,2,0)","v":""},{"$f":"VLOOKUP(\"当前年收入（税前，万元）\",'信息转置专用（请勿删除）'!$A$12:$E$12,4,0)","v":""},{"$f":"VLOOKUP(\"期望年收入（税前，万元）\",'信息转置专用（请勿删除）'!$F$12:$I$12,2,0)","v":""},{"$f":"HLOOKUP($V$2,'信息转置专用（请勿删除）'!$J$7:$J$8,2,0)","v":""},{"$f":"HLOOKUP($W$2,'信息转置专用（请勿删除）'!$K$23:$K$35,2,0)","v":""},{"$f":"HLOOKUP($X$2,'信息转置专用（请勿删除）'!$K$35:$K$47,2,0)","v":""},{"$f":"HLOOKUP($Y$2,'信息转置专用（请勿删除）'!$K$47:$K$54,2,0)","v":""},null,{"$f":"HLOOKUP($AA$2,'信息转置专用（请勿删除）'!$K$54:$K$64,2,0)","v":""}]

{"sheet":"自动统计信息（请勿填写）","index":3,"n_rows":3,"n_cols":27,"rows_kept":3,"hidden":true}
["应聘人员基本信息汇总表"]
["序号","应聘岗位","是否服从调配","姓名","出生年月（年龄）","性别","政治面貌","入党年月","身份证号","本人联系电话","电子邮箱","最高学历","全日制教育经历","在职教育经历","英语能力","参加工作时间","应聘岗位专业工作年限","现单位","现职务/岗位","现年收入\n（税前，万元/年）","期望年收入\n（税前，万元/年）","职称/职业资格","工作经历","重大项目经历","获奖情况","备注","主要家庭成员情况"]
[null,{"$f":"VLOOKUP($B$2,'信息转置专用（请勿删除）'!$A$2:$E$2,4,0)","v":"软件系统架构师"},{"$f":"VLOOKUP($C$2,'信息转置专用（请勿删除）'!$F$2:$I$2,2,0)","v":""},{"$f":"VLOOKUP(D2,'信息转置专用（请勿删除）'!$A$4:$B$4,2,0)","v":""},{"$f":"VLOOKUP(\"出生日期及年龄\",'信息转置专用（请勿删除）'!$E$4:$G$4,2,0)","v":""},{"$f":"VLOOKUP($F$2,'信息转置专用（请勿删除）'!$C$4:$D$4,2,0)","v":""},{"$f":"VLOOKUP($G$2,'信息转置专用（请勿删除）'!$A$6:$D$6,2,0)","v":""},{"$f":"VLOOKUP($H$2,'信息转置专用（请勿删除）'!$E$6:$G$6,2,0)","v":""},{"$f":"VLOOKUP($I$2,'信息转置专用（请勿删除）'!$E$5:$G$5,2,0)","v":""},{"$f":"VLOOKUP($J$2,'信息转置专用（请勿删除）'!$A$10:$D$10,2,0)","v":""},{"$f":"VLOOKUP(K2,'信息转置专用（请勿删除）'!E10:F10,2,0)","v":""},{"$f":"VLOOKUP($L$2,'信息转置专用（请勿删除）'!$J$2:$K$2,2,0)","v":{"$error":"#N/A"}},{"$f":"VLOOKUP($M$2,'信息转置专用（请勿删除）'!$A$15:$M$17,13,0)","v":""},{"$f":"VLOOKUP($N$2,'信息转置专用（请勿删除）'!$A$19:$M$21,13,0)","v":""},{"$f":"VLOOKUP($O$2,'信息转置专用（请勿删除）'!$G$9:$I$9,3,0)","v":""},{"$f":"VLOOKUP($P$2,'信息转置专用（请勿删除）'!$A$7:$D$7,2,0)","v":""},{"$f":"VLOOKUP(\"专业工作年限\",'信息转置专用（请勿删除）'!$E$7:$G$7,2,0)","v":""},{"$f":"VLOOKUP(\"现单位\",'信息转置专用（请勿删除）'!$A$9:$D$9,2,0)","v":""},{"$f":"VLOOKUP(\"现任岗位及职务\",'信息转置专用（请勿删除）'!$E$9:$I$9,2,0)","v":""},{"$f":"VLOOKUP(\"当前年收入（税前，万元）\",'信息转置专用（请勿删除）'!$A$12:$E$12,4,0)","v":""},{"$f":"VLOOKUP(\"期望年收入（税前，万元）\",'信息转置专用（请勿删除）'!$F$12:$I$12,2,0)","v":""},{"$f":"HLOOKUP($V$2,'信息转置专用（请勿删除）'!$J$7:$J$8,2,0)","v":""},{"$f":"HLOOKUP($W$2,'信息转置专用（请勿删除）'!$K$23:$K$33,2,0)","v":""},{"$f":"HLOOKUP($X$2,'信息转置专用（请勿删除）'!$K$35:$K$45,2,0)","v":""},{"$f":"HLOOKUP($Y$2,'信息转置专用（请勿删除）'!$K$47:$K$52,2,0)","v":""},null,{"$f":"HLOOKUP($AA$2,'信息转置专用（请勿删除）'!$K$54:$K$62,2,0)","v":""}]